BEGIN:VCALENDAR
VERSION:2.0
PRODID:-//EFT Matrix Academy - ECPv6.15.18//NONSGML v1.0//EN
CALSCALE:GREGORIAN
METHOD:PUBLISH
X-ORIGINAL-URL:https://eftmatrixacademy.com
X-WR-CALDESC:Events for EFT Matrix Academy
REFRESH-INTERVAL;VALUE=DURATION:PT1H
X-Robots-Tag:noindex
X-PUBLISHED-TTL:PT1H
BEGIN:VTIMEZONE
TZID:Europe/London
BEGIN:DAYLIGHT
TZOFFSETFROM:+0000
TZOFFSETTO:+0100
TZNAME:BST
DTSTART:20250330T010000
END:DAYLIGHT
BEGIN:STANDARD
TZOFFSETFROM:+0100
TZOFFSETTO:+0000
TZNAME:GMT
DTSTART:20251026T010000
END:STANDARD
BEGIN:DAYLIGHT
TZOFFSETFROM:+0000
TZOFFSETTO:+0100
TZNAME:BST
DTSTART:20260329T010000
END:DAYLIGHT
BEGIN:STANDARD
TZOFFSETFROM:+0100
TZOFFSETTO:+0000
TZNAME:GMT
DTSTART:20261025T010000
END:STANDARD
BEGIN:DAYLIGHT
TZOFFSETFROM:+0000
TZOFFSETTO:+0100
TZNAME:BST
DTSTART:20270328T010000
END:DAYLIGHT
BEGIN:STANDARD
TZOFFSETFROM:+0100
TZOFFSETTO:+0000
TZNAME:GMT
DTSTART:20271031T010000
END:STANDARD
END:VTIMEZONE
BEGIN:VEVENT
DTSTART;TZID=Europe/London:20260423T090000
DTEND;TZID=Europe/London:20260426T170000
DTSTAMP:20260420T223836
CREATED:20250924T130830Z
LAST-MODIFIED:20251209T075309Z
UID:10000337-1776934800-1777222800@eftmatrixacademy.com
SUMMARY:Advanced Practitioner – EFT Level 3 – 4 days training with Nicky Forbes
DESCRIPTION:Join me\, Nicky Forbes\, on this exciting expansion of wisdom for those of you who really want to deepen and widen your tapping experience. By launching from the foundations of EFT (Levels 1 and 2) the Advanced Practitioner training shows just how far Tapping can be applied to all areas of life – physical and energetic. \nThis course and follow up commitments of 3 case studies\, really challenge you to step into the best version of yourself as an EFT practitioner – with the knowing you have all the skills and experience to meet your clients\, wherever they are on their soul journey and wherever they wish to go. \nThis extensive 4 day training takes the formula of EFT into expansive\, metaphysical levels\, bringing intuition\, inner landscapes and metaphors into the arena. With Level 3 skills\, EFT really comes to life and allows you to have the confidence to take your practice to heightened levels of Mastery.
URL:https://eftmatrixacademy.com/courses/advanced-practitioner-eft-level-3-4-days-intensive-training/
LOCATION:Victory Hall Dalston\, Cumbria\, Dalston\, Cumbria\, CA5 7QB\, United Kingdom
CATEGORIES:EFT and Matrix Training Courses
ATTACH;FMTTYPE=image/jpeg:https://eftmatrixacademy.com/wp-content/uploads/2025/09/FB_IMG_1758718877280.jpg
ORGANIZER;CN="Nicky Forbes":MAILTO:nickyhforbes@gmail.com
GEO:54.840144;-2.9845142
END:VEVENT
BEGIN:VEVENT
DTSTART;TZID=Europe/London:20260626T080000
DTEND;TZID=Europe/London:20260628T170000
DTSTAMP:20260420T223836
CREATED:20250924T125951Z
LAST-MODIFIED:20251209T075330Z
UID:10000336-1782460800-1782666000@eftmatrixacademy.com
SUMMARY:Levels 1 and 2 EFT Training (Combined) – 3 days - North England
DESCRIPTION:Join me\, Nicky Forbes\, for 3 days of transformational learning – gaining all the tools required to become an EFT practitioner\, support yourself and many more \nRunning EFT training of all levels in the North of England\, Nicky offers a warm\, personable and deeply inspiring approach to EFT. She combines her 28 years of delivering therapy and training across the NHS\, Hospice\, Emergency Services\, Corporate\, Military and the general public – bringing a wealth and depth of experience and wisdom to your learning. \nOnce you’ve completed the 3 days\, Nicky asks for 4 case studies to be submitted – this ensures you feel truly confident\, capable and competent to complete the online assessment\, prior to qualifying. Then\, fully equipped you can help many others change their lives with the wonder of tapping \nYou’ll be invited to join Nicky’s private EFT Facebook group as well as the wonderful EFTMRA community pages\, so you’ll always have connection and a sense of belonging as you continue forward on your EFT journey. \nNicky offers regular free Q&A zooms if you’re curious about EFT and the training options – so please check out her Facebook page or email nickyhforbes@gmail.com. In addition\, she’s happy to arrange a free zoom chat to discuss any questions you may have\, ahead of booking the training. \nWe’d love you to join us
URL:https://eftmatrixacademy.com/courses/levels-1-and-2-eft-training-combined-3-days-in-person-3/
LOCATION:Victory Hall Dalston\, Cumbria\, Dalston\, Cumbria\, CA5 7QB\, United Kingdom
CATEGORIES:EFT and Matrix Training Courses
ATTACH;FMTTYPE=image/jpeg:https://eftmatrixacademy.com/wp-content/uploads/2025/09/MainLogo_web-04-2.jpg
ORGANIZER;CN="Nicky Forbes":MAILTO:nickyhforbes@gmail.com
GEO:54.840144;-2.9845142
END:VEVENT
END:VCALENDAR