BEGIN:VCALENDAR
VERSION:2.0
PRODID:-//EFT Matrix Academy - ECPv6.15.18//NONSGML v1.0//EN
CALSCALE:GREGORIAN
METHOD:PUBLISH
X-ORIGINAL-URL:https://eftmatrixacademy.com
X-WR-CALDESC:Events for EFT Matrix Academy
REFRESH-INTERVAL;VALUE=DURATION:PT1H
X-Robots-Tag:noindex
X-PUBLISHED-TTL:PT1H
BEGIN:VTIMEZONE
TZID:Europe/London
BEGIN:DAYLIGHT
TZOFFSETFROM:+0000
TZOFFSETTO:+0100
TZNAME:BST
DTSTART:20250330T010000
END:DAYLIGHT
BEGIN:STANDARD
TZOFFSETFROM:+0100
TZOFFSETTO:+0000
TZNAME:GMT
DTSTART:20251026T010000
END:STANDARD
BEGIN:DAYLIGHT
TZOFFSETFROM:+0000
TZOFFSETTO:+0100
TZNAME:BST
DTSTART:20260329T010000
END:DAYLIGHT
BEGIN:STANDARD
TZOFFSETFROM:+0100
TZOFFSETTO:+0000
TZNAME:GMT
DTSTART:20261025T010000
END:STANDARD
BEGIN:DAYLIGHT
TZOFFSETFROM:+0000
TZOFFSETTO:+0100
TZNAME:BST
DTSTART:20270328T010000
END:DAYLIGHT
BEGIN:STANDARD
TZOFFSETFROM:+0100
TZOFFSETTO:+0000
TZNAME:GMT
DTSTART:20271031T010000
END:STANDARD
END:VTIMEZONE
BEGIN:VEVENT
DTSTART;VALUE=DATE:20260516
DTEND;VALUE=DATE:20260519
DTSTAMP:20260421T065148
CREATED:20250507T092631Z
LAST-MODIFIED:20260413T115831Z
UID:10000312-1778889600-1779148799@eftmatrixacademy.com
SUMMARY:EFT Practitioner Training  in Lancashire with Carol Ann Weston
DESCRIPTION:Unlock the Power of EFT (Tapping) and become an Accredited EFT Practitioner. \nThis In- person 3-day intensive program is designed to equip you with the essential knowledge and skills needed to help clients overcome emotional and physical challenges using this powerful evidence-based technique. \nThe training is a blend of theory\, group work and supervised practice sessions to develop skills and practice specific techniques. The syllabus is based on the work of EFT’s founder Gary Craig along with the current updates to reflect the advancement of EFT over the years and the clinical evidence published (Anxiety\, trauma\, depression\, weight loss and pain relief) \nEFT “tapping” is one of the most effective healing modalities that exists today. EFT can be seamlessly integrated into almost any practice including psychotherapy\, executive and life coaching\, nursing\, teaching\, somatic bodywork\, hypnotherapy\, and chiropractic and is often used by support workers\, learning mentors and holistic therapists. \nMany people learn these amazing techniques for self-help\, to work with friends and family as well as to use with clients and extend their portfolio of skills.  No previous experience or knowledge is necessary. \nWhy join us on this EFT Practitioner workshop? \nFacilitated by one of the most experienced Trainers of EFT based in the North of England. \nCarol has over two decades of EFT experience and has supported over 1\,000 clients bringing a wealth of experience to the training including numerous case studies along with lived experience. \nIntensive 3-day workshop with supervised group work and practice sessions. \nMentorship support sessions for student Practitioners included in training package. \nReserve your place with a deposit of £75 (none- refundable) \nEarly booking discount available for more information contact Carol on 07581 706 602 or email Carol@EFT-Training.co.uk for further information and to reserve a place. \n 
URL:https://eftmatrixacademy.com/courses/eft-practitioner-training-level-1-and-2-combined-in-person-in-lancashire/
LOCATION:Lancashire
CATEGORIES:EFT and Matrix Training Courses
ATTACH;FMTTYPE=image/jpeg:https://eftmatrixacademy.com/wp-content/uploads/2025/05/Headshot-reset-1.jpg
ORGANIZER;CN="Carol Ann Weston":MAILTO:carol@eft-training.co.uk
END:VEVENT
BEGIN:VEVENT
DTSTART;VALUE=DATE:20260912
DTEND;VALUE=DATE:20260915
DTSTAMP:20260421T065148
CREATED:20260413T114035Z
LAST-MODIFIED:20260413T150848Z
UID:10000441-1789171200-1789430399@eftmatrixacademy.com
SUMMARY:EFT Practitioner Workshop in Lancashire with Carol Ann Weston
DESCRIPTION:Unlock the Power of EFT (Tapping) and become an Accredited EFT Practitioner. \nThis In- person 3-day intensive program is designed to equip you with the essential knowledge and skills needed to help clients overcome emotional and physical challenges using this powerful evidence-based technique. \nThe training is a blend of theory\, group work and supervised practice sessions to develop skills and practice specific techniques. The syllabus is based on the work of EFT’s founder Gary Craig along with the current updates to reflect the advancement of EFT over the years and the clinical evidence published (Anxiety\, trauma\, depression\, weight loss and pain relief) \nEFT “tapping” is one of the most effective healing modalities that exists today. EFT can be seamlessly integrated into almost any practice including psychotherapy\, executive and life coaching\, nursing\, teaching\, somatic bodywork\, hypnotherapy\, and chiropractic and is often used by support workers\, learning mentors and holistic therapists. \nMany people learn these amazing techniques for self-help\, to work with friends and family as well as to use with clients and extend their portfolio of skills.  No previous experience or knowledge is necessary. \nWhy join us on this EFT Practitioner workshop? \nFacilitated by one of the most experienced Trainers of EFT based in the North of England. \nCarol has over two decades of EFT experience and has supported over 1\,000 clients bringing a wealth of experience to the training including numerous case studies along with lived experience. \nIntensive 3-day workshop with supervised group work and practice sessions. \nMentorship support sessions for student Practitioners included in training package. \nReserve your place with a deposit of £75 (none- refundable) \nEarly booking discount available for more information contact Carol on \n07581 706 602\nor email Carol@EFT-Training.co.uk for further information and to reserve a place. \n 
URL:https://eftmatrixacademy.com/courses/eft-practitioner-level-1-and-2-combined-lancashire-with-carol-ann-weston/
LOCATION:Lancashire
CATEGORIES:EFT and Matrix Training Courses
ATTACH;FMTTYPE=image/png:https://eftmatrixacademy.com/wp-content/uploads/2026/04/2_20241212_110140_0001.png
ORGANIZER;CN="Carol Ann Weston":MAILTO:carol@eft-training.co.uk
END:VEVENT
END:VCALENDAR