BEGIN:VCALENDAR
VERSION:2.0
PRODID:-//EFT Matrix Academy - ECPv6.15.18//NONSGML v1.0//EN
CALSCALE:GREGORIAN
METHOD:PUBLISH
X-WR-CALNAME:EFT Matrix Academy
X-ORIGINAL-URL:https://eftmatrixacademy.com
X-WR-CALDESC:Events for EFT Matrix Academy
REFRESH-INTERVAL;VALUE=DURATION:PT1H
X-Robots-Tag:noindex
X-PUBLISHED-TTL:PT1H
BEGIN:VTIMEZONE
TZID:UTC
BEGIN:STANDARD
TZOFFSETFROM:+0000
TZOFFSETTO:+0000
TZNAME:UTC
DTSTART:20230101T000000
END:STANDARD
END:VTIMEZONE
BEGIN:VEVENT
DTSTART;TZID=UTC:20240223T090000
DTEND;TZID=UTC:20240225T170000
DTSTAMP:20260421T223504
CREATED:20240122T111316Z
LAST-MODIFIED:20240124T030342Z
UID:10000079-1708678800-1708880400@eftmatrixacademy.com
SUMMARY:EFT Course 1 & 2 with Kate Zuill to Qualify as a Practitioner
DESCRIPTION:This course will qualify you to be a BRAND NEW  Practitioner of EFT! as long as you also pass a short test linked to Karl’s website and view certain business videos which will ready you for becoming a Practitioner.  (This is particularly relevant if this is your first sojourn into the Therapy world and for those experienced Therapists wishing to update their knowledge of changing regulations). \nThis course will be held in Blockley\, near Moreton in Marsh\, Gloucestershire GL56. \nThe course is over 3 days and follows all the points and slides that Karl uses.  Please see my website for more details:- www.katezuill.com
URL:https://eftmatrixacademy.com/courses/eft-course-1-2-with-kate-zuill-to-qualify-as-a-practitioner/
LOCATION:Fairview\, High Street\, Blockley\, Gloucestershire\, GL56 9EX\, United Kingdom
ATTACH;FMTTYPE=image/jpeg:https://eftmatrixacademy.com/wp-content/uploads/2024/01/KateLogo.jpg
ORGANIZER;CN="Kate Zuill":MAILTO:kate.zuill@gmail.com
END:VEVENT
END:VCALENDAR