BEGIN:VCALENDAR
VERSION:2.0
PRODID:-//EFT Matrix Academy - ECPv6.15.18//NONSGML v1.0//EN
CALSCALE:GREGORIAN
METHOD:PUBLISH
X-WR-CALNAME:EFT Matrix Academy
X-ORIGINAL-URL:https://eftmatrixacademy.com
X-WR-CALDESC:Events for EFT Matrix Academy
REFRESH-INTERVAL;VALUE=DURATION:PT1H
X-Robots-Tag:noindex
X-PUBLISHED-TTL:PT1H
BEGIN:VTIMEZONE
TZID:UTC
BEGIN:STANDARD
TZOFFSETFROM:+0000
TZOFFSETTO:+0000
TZNAME:UTC
DTSTART:20230101T000000
END:STANDARD
END:VTIMEZONE
BEGIN:VEVENT
DTSTART;TZID=UTC:20240316T093000
DTEND;TZID=UTC:20240317T173000
DTSTAMP:20260421T225005
CREATED:20231115T135512Z
LAST-MODIFIED:20231115T152520Z
UID:10000072-1710581400-1710696600@eftmatrixacademy.com
SUMMARY:Matrix Reimprinting Practitioner Training
DESCRIPTION:The second of two Practitioner Training Weekends in Bad Homburg\, Germany with Eva Gerigk and Frithjof Krepp.
URL:https://eftmatrixacademy.com/courses/matrix-reimprinting-practitioner-training-2/
ATTACH;FMTTYPE=image/jpeg:https://eftmatrixacademy.com/wp-content/uploads/2023/11/DSCF0686-1-1.jpg
ORGANIZER;CN="Eva Gerigk":MAILTO:mail@eva-gerigk.de
END:VEVENT
BEGIN:VEVENT
DTSTART;TZID=UTC:20240224T093000
DTEND;TZID=UTC:20240225T173000
DTSTAMP:20260421T225005
CREATED:20231115T135049Z
LAST-MODIFIED:20231115T152402Z
UID:10000071-1708767000-1708882200@eftmatrixacademy.com
SUMMARY:Matrix Reimprinting Practitioner Training
DESCRIPTION:The first of two Practitioner Training Weekends in Bad Homburg\, Germany with Eva Gerigk and Frithjof Krepp.
URL:https://eftmatrixacademy.com/courses/matrix-reimprinting-2/
ATTACH;FMTTYPE=image/jpeg:https://eftmatrixacademy.com/wp-content/uploads/2023/11/DSCF0686-1.jpg
ORGANIZER;CN="Eva Gerigk":MAILTO:mail@eva-gerigk.de
END:VEVENT
END:VCALENDAR