BEGIN:VCALENDAR
VERSION:2.0
PRODID:-//EFT Matrix Academy - ECPv6.15.18//NONSGML v1.0//EN
CALSCALE:GREGORIAN
METHOD:PUBLISH
X-WR-CALNAME:EFT Matrix Academy
X-ORIGINAL-URL:https://eftmatrixacademy.com
X-WR-CALDESC:Events for EFT Matrix Academy
REFRESH-INTERVAL;VALUE=DURATION:PT1H
X-Robots-Tag:noindex
X-PUBLISHED-TTL:PT1H
BEGIN:VTIMEZONE
TZID:America/Denver
BEGIN:DAYLIGHT
TZOFFSETFROM:-0700
TZOFFSETTO:-0600
TZNAME:MDT
DTSTART:20230312T090000
END:DAYLIGHT
BEGIN:STANDARD
TZOFFSETFROM:-0600
TZOFFSETTO:-0700
TZNAME:MST
DTSTART:20231105T080000
END:STANDARD
BEGIN:DAYLIGHT
TZOFFSETFROM:-0700
TZOFFSETTO:-0600
TZNAME:MDT
DTSTART:20240310T090000
END:DAYLIGHT
BEGIN:STANDARD
TZOFFSETFROM:-0600
TZOFFSETTO:-0700
TZNAME:MST
DTSTART:20241103T080000
END:STANDARD
BEGIN:DAYLIGHT
TZOFFSETFROM:-0700
TZOFFSETTO:-0600
TZNAME:MDT
DTSTART:20250309T090000
END:DAYLIGHT
BEGIN:STANDARD
TZOFFSETFROM:-0600
TZOFFSETTO:-0700
TZNAME:MST
DTSTART:20251102T080000
END:STANDARD
END:VTIMEZONE
BEGIN:VEVENT
DTSTART;VALUE=DATE:20241017
DTEND;VALUE=DATE:20241020
DTSTAMP:20260421T181733
CREATED:20240929T003837Z
LAST-MODIFIED:20240929T003837Z
UID:10000230-1729123200-1729382399@eftmatrixacademy.com
SUMMARY:EFT Level 1&2 and introduction to Matrix Reimprinting
DESCRIPTION:Details of Level 1 and 2 EFT Practitioner course \nHow to become an EFT Practitioner Course (Levels 1 and 2 combined) \nWhat you will learn on the EFT Practitioner course \n•    A brief history of EFT. \n•    Understanding the concepts of EFT and connections to existing therapies and healing modalities. \n•    The discovery statement upon which EFT is based. \n•    The EFT tapping points. \n•    Understanding and experiencing the effects of energy system disruptions. \n•    Psychological reversal – a new understanding of the reasons we don’t heal and simple techniques to overcome this very common obstacle \n•    The ‘basic recipe’. Learn the full EFT protocol\, with demonstrations and experiential practice. \n•    Techniques to greatly improve the effectiveness of EFT – including the importance of being specific\, dealing with shifting aspects of memories and emotions and being persistent. \n•    Discover the wide range of physical and emotional issues for which EFT is effective and the few areas where EFT shouldn’t be used. \n•    Testing the effectiveness of treatments and how to handle situations that can arise. \n•    Learn and experience other EFT techniques – including the ‘tearless trauma technique’\, the ‘movie technique’\, ‘chasing the pain’ and the ‘personal peace procedure’ \n•    Understanding cognitive shifts – what verbal and physical signs to expect. \n•    Lots of practice working with and experiencing the incredible results of EFT on your own issues. \n•    Experience working with bothersome memories\, phobias and addictive cravings. \n•    What to do when EFT doesn’t work. \n•    Theory and a demonstration working on physical pain. \n•    Principles from The Palace of Possibilities – understanding how our lives\, the people with whom we have interacted and the situations we have found ourselves in the past\, cloud and become the focus and filters through which we see and experience life now. \n•    Using affirmations with EFT. Understanding the reasons why these potentially incredible methods of focusing our intention and creating our desired reality often fail to work. Also how we can use EFT to remove these obstacles and create the future we desire. \n•    Additional tapping points. Learn other meridian points that can be added to aid EFT treatments. \n•    Ways to inject more gentleness into the EFT procedure – the ‘gentle’ techniques: the ‘tearless trauma’ technique\, ‘chasing the pain’ and ‘sneaking up on the problem’. \n•    Ways to find core issues – questions and techniques to get to the core issues and root causes of physical and emotional problems. \n•    Addressing physical issues – methods to get to the core issues and emotional reasons behind physical issues and disease. \n•    Further methods for testing results – determining whether an issue has completely collapsed and how to look for remaining aspects. \n•    Working with EFT by Zoom/Skype etc – including exploring the many benefits of using EFT online. \n•    Delivering EFT in groups – looking at the application\, uses and many advantages of group tapping. \n•    Borrowing benefits – see and experience the many powerful positive side effects when using EFT in groups.
URL:https://eftmatrixacademy.com/courses/eft-level-12-and-introduction-to-matrix-reimprinting/
ATTACH;FMTTYPE=image/jpeg:https://eftmatrixacademy.com/wp-content/uploads/2024/09/IMG_1777.jpeg
ORGANIZER;CN="Caroline Rhodes":MAILTO:caroline@thebodygroup.com
END:VEVENT
END:VCALENDAR