BEGIN:VCALENDAR
VERSION:2.0
PRODID:-//EFT Matrix Academy - ECPv6.15.18//NONSGML v1.0//EN
CALSCALE:GREGORIAN
METHOD:PUBLISH
X-WR-CALNAME:EFT Matrix Academy
X-ORIGINAL-URL:https://eftmatrixacademy.com
X-WR-CALDESC:Events for EFT Matrix Academy
REFRESH-INTERVAL;VALUE=DURATION:PT1H
X-Robots-Tag:noindex
X-PUBLISHED-TTL:PT1H
BEGIN:VTIMEZONE
TZID:Europe/London
BEGIN:DAYLIGHT
TZOFFSETFROM:+0000
TZOFFSETTO:+0100
TZNAME:BST
DTSTART:20250330T010000
END:DAYLIGHT
BEGIN:STANDARD
TZOFFSETFROM:+0100
TZOFFSETTO:+0000
TZNAME:GMT
DTSTART:20251026T010000
END:STANDARD
BEGIN:DAYLIGHT
TZOFFSETFROM:+0000
TZOFFSETTO:+0100
TZNAME:BST
DTSTART:20260329T010000
END:DAYLIGHT
BEGIN:STANDARD
TZOFFSETFROM:+0100
TZOFFSETTO:+0000
TZNAME:GMT
DTSTART:20261025T010000
END:STANDARD
BEGIN:DAYLIGHT
TZOFFSETFROM:+0000
TZOFFSETTO:+0100
TZNAME:BST
DTSTART:20270328T010000
END:DAYLIGHT
BEGIN:STANDARD
TZOFFSETFROM:+0100
TZOFFSETTO:+0000
TZNAME:GMT
DTSTART:20271031T010000
END:STANDARD
END:VTIMEZONE
BEGIN:VTIMEZONE
TZID:UTC
BEGIN:STANDARD
TZOFFSETFROM:+0000
TZOFFSETTO:+0000
TZNAME:UTC
DTSTART:20220101T000000
END:STANDARD
END:VTIMEZONE
BEGIN:VEVENT
DTSTART;TZID=Europe/London:20260220T090000
DTEND;TZID=Europe/London:20260220T170000
DTSTAMP:20260421T054110
CREATED:20260218T035222Z
LAST-MODIFIED:20260218T072931Z
UID:10000424-1771578000-1771606800@eftmatrixacademy.com
SUMMARY:When the World Won’t Settle; For Practitioners Who Are Holding More Than Ever
DESCRIPTION:The EFT Tapping Training Institute in collaboration with Tapping Out of Trauma Continuing Education Seminars present: \nWhen the World Won’t Settle; For Practitioners Who Are Holding More Than Ever \nA Discussion with Craig Weiner and Suzanne Fageol\, facilitated by Alina Frank \nWhen the World Won’t Settle; For Practitioners Who Are Holding More Than Ever \n \nSomething feels different. Your clients are more activated. The conversations are heavier. The background hum of uncertainty never really shuts off. \nAnd if you’re honest — you feel it too. \nAs practitioners\, we’re trained to regulate\, to hold\, to guide. \nBut it can be really difficult to do that while standing inside the same storm. \nThis is not just another techniques webinar. This is a space to steady yourself while learning how to meet the moment for clients. \nBecause when the world feels ungrounded\, your nervous system becomes part of the healing space. \nYour presence matters more than ever and and if you’re stretched thin\, your work feels harder than it needs to. \nIn this 60-minute webinar\, we’ll: \n*Make sense of why everything feels amplified right now\n*Untangle what’s yours and what you’ve absorbed\n*Reset your nervous system in real time\n*Reclaim your practitioner center\n*Learn and possibly re-learn powerful daily tools to implement and teach your clients \nYou’ll not only leave with a doable checklist\, you’ll leave feeling steadier. Clearer. Back in your body. \nThis is for EFT practitioners\, trauma-informed coaches\, therapists\, and helpers who are supporting others while quietly managing their own overwhelm. Remember\, you are not weak for feeling the weight of this moment. You are human. \nResilience isn’t built in grand gestures. It’s built in small\, consistent recalibrations. Come recalibrate. This is critical because the world may not settle anytime soon\, but you can. \nWho You’ll Be Learning From: \nAlina Frank is a co-director of the EFT Tapping Training Institute\, is an EFT Master Trainer of Trainers. Program Director for the I Can Take It From Here Restored Citizens Project. She is a contributing author to nine EFT books including the Clinical EFT Manual and the upcoming book\, Tap Into Your Best Life. \nCraig Weiner\, D.C. is the current co-chair of the Board of Trustees for EFT International\, is the co-director of the EFT Tapping Training Institute and the co-founder of the Tapping out of Trauma training courses. \nSuzanne Fageol\, MDiv\, MSD is a co-founder of the Tapping out of Trauma training courses\, is a certified counselor\, spiritual director\, craniosacral therapist\, somatic trauma release educator and EFT/Matrix Reimprinting coach. She has been educating those in the helping professions about working with people with trauma and stress for the past 20 years and has been an educator of somatic practices and the neuroscience of trauma for over 20 years. \nThese free interviews are provided for the purpose of educating the EFT and Tapping community on issues regarding the safe and effective ways to work with trauma. They are conducted by Craig Weiner and Suzanne Fageol\, Directors of Tapping out of Trauma Training. \nIn addition\, the information presented in this webinar is not intended to be a substitute for obtaining risk management advice from an appropriate professional liability risk management consultant or legal advice from an attorney licensed in your state. \nhttps://www.tappingoutoftrauma.com/when-the-world-will-not-settle/
URL:https://eftmatrixacademy.com/courses/when-the-world-wont-settle-for-practitioners-who-are-holding-more-than-ever/
LOCATION:online\, bridge villa\, welshampton\, sy120qe\, United Kingdom
CATEGORIES:Live Speciality Courses
ATTACH;FMTTYPE=image/png:https://eftmatrixacademy.com/wp-content/uploads/2026/02/Screenshot-2026-02-18-113429.png
ORGANIZER;CN="Craig Weiner":MAILTO:craig@efttappingtraining.com
END:VEVENT
BEGIN:VEVENT
DTSTART;TZID=Europe/London:20260127T090000
DTEND;TZID=Europe/London:20260127T170000
DTSTAMP:20260421T054110
CREATED:20251124T234603Z
LAST-MODIFIED:20251209T074612Z
UID:10000347-1769504400-1769533200@eftmatrixacademy.com
SUMMARY:Empower Your Best Year Yet: 6 Weeks to Overcome Procrastination and Take Action Online Starting Jan 27\, 2026
DESCRIPTION:Empower Your Best Year Yet: 6 Weeks to Overcome Procrastination and Take Action\nOnline Starting Jan 27\, 2026 \nEmpower Your Best Year Yet: 6 Weeks to Overcome Procrastination and Take Action \n \nReserve Your Spot for January 27th start – $197\nREGISTER NOW: https://www.efttappingtraining.com/cart/ \nMake 2026 the year you finally accomplish what you’ve been putting off! Starting at the beginning of the new year\, this 6-week program is your step-by-step guide to breaking free from procrastination\, addressing subconscious fears\, and achieving your dreams with clarity and confidence. \nWhether you’ve been wanting to: \n*Launch a business or side hustle.\n*Relocate to a new city or country.\n*Pursue your dream job or career change.\n*Write a book or create a passion project.\n*Commit to a healthier lifestyle.\n*Tackle long-overdue personal or professional goals. \nThis program is designed to give you the tools and support you need to take consistent\, meaningful action toward success. \nWeekly Modules Overview: \n*Understanding Procrastination\n-Dive deep into why we procrastinate and how subconscious fears and beliefs fuel avoidance.\n-Discover how EFT Tapping rewires your brain’s stress response. \n*Identifying Your Blocks\n-Explore the mental and emotional barriers that hold you back\, from fear of failure to perfectionism.\n-Learn practical exercises to confront and dissolve these limitations. \n*Breaking the Cycle\n-Develop tools to overcome overwhelm and break tasks into manageable\, actionable steps.\n-Experience Matrix Reimprinting techniques to address past experiences fueling procrastination. \n*Building Momentum and Habits\n-Create habits for sustained action using scientifically backed methods and tapping circles for accountability.\n-Gain insights into time management and prioritization. \n*Overcoming Subconscious Fears\n-Address deeper fears of success\, judgment\, or inadequacy through guided tapping.\n-Rewire negative beliefs and replace them with empowering\, actionable thoughts. \n*Creating Your Future Vision\n-Define and visualize the life you want to build.\n-Visionboard experience\n-Learn strategies to stay on track\, even when challenges arise. \nWhy This Program Works: \n*EFT Tapping and Matrix Reimprinting combine cutting-edge science and emotional healing to create quick\, lasting shifts. \n*A supportive community keeps you accountable and motivated every step of the way. \n*Practical tools and frameworks ensure you take consistent\, meaningful action toward your goals. \nStart 2026 by unlocking your potential and accomplishing what truly matters to you. \nReserve Your Spot for January 27th start \n9:00am – 10:30am (Seattle/Los Angeles) January 27\, February 3\, 10\, 17\, 24\, March 3. \nEmpower Your Best Year Yet: 6 Weeks to Overcome Procrastination and Take Action
URL:https://eftmatrixacademy.com/courses/empower-your-best-year-yet-6-weeks-to-overcome-procrastination-and-take-action-online-starting-jan-27-2026/
CATEGORIES:Live Speciality Courses
ATTACH;FMTTYPE=image/png:https://eftmatrixacademy.com/wp-content/uploads/2025/11/Empower-Your-Best-Year-Yet-Jan-27-2026.png
ORGANIZER;CN="Alina Frank":MAILTO:alina@efttappingtraining.com
END:VEVENT
BEGIN:VEVENT
DTSTART;TZID=Europe/London:20260124T090000
DTEND;TZID=Europe/London:20260326T170000
DTSTAMP:20260421T054110
CREATED:20251124T234937Z
LAST-MODIFIED:20251209T071303Z
UID:10000348-1769245200-1774544400@eftmatrixacademy.com
SUMMARY:Matrix Reimprinting Practitioner Enrichment Day - Online Jan 24\, 2026
DESCRIPTION:Matrix Reimprinting Practitioner Enrichment Day – Online Jan 24\, 2026 \nMatrix Reimprinting Practitioner Enrichment Day \n \nJoin us! $99 https://www.efttappingtraining.com/cart/ \nPrerequisite: Having attended a Matrix Reimprinting foundational training \nAfter years of requests\, this past year has given us the opportunity to create more engaging online gatherings. Don’t let your Matrix Reimprinting training get rusty. Join N. America’s MR trainers Alina Frank and Craig Weiner in a full day of swaps\, Q and A\, observation\, mentoring and skill enrichment. It’s one thing to take the training and a whole other world applying it effectively with your clients in a wide range of circumstances. \nIf you have not been to an MR training in years\, there are likely updates that you may be unaware of. This will be a fabulous opportunity to update your MR knowledge and skills. \nHours count toward annual EFT International required CPD hours. \nWe look forward to seeing you then! \nPresenting Certified Trainers\nAlina Frank and Craig Weiner\, DC \nLocation\nOnline \nCourse Hours\n10:00 am – 4:00 pm Seattle/PST on Zoom platform \nCancellation Policy\nNo refunds will be granted for this program however you can apply the 99$ to any another course we offer in 2026. \nClick here to contact us with any questions. https://www.efttappingtraining.com/contact-us/ \nThis training is offered by EFT Tapping Training Institute. \nMatrix Reimprinting Practitioner Enrichment Day
URL:https://eftmatrixacademy.com/courses/matrix-reimprinting-practitioner-enrichment-day-online-jan-24-2026/
CATEGORIES:Live Speciality Courses
ATTACH;FMTTYPE=image/png:https://eftmatrixacademy.com/wp-content/uploads/2025/11/Matrix-Reimprinting-Practitioner-Enrichment-Day-Online-Jan-24-2026.png
ORGANIZER;CN="Alina Frank":MAILTO:alina@efttappingtraining.com
END:VEVENT
BEGIN:VEVENT
DTSTART;VALUE=DATE:20231118
DTEND;VALUE=DATE:20231120
DTSTAMP:20260421T054110
CREATED:20230802T201131Z
LAST-MODIFIED:20231003T023726Z
UID:10000015-1700265600-1700438399@eftmatrixacademy.com
SUMMARY:Matrix Reimprinting Practitioner Training Arizona
DESCRIPTION:Matrix Reimprinting with Alina Frank and Dr. Craig Weiner in Scottsdale\, Arizona \nEarly bird discount available.
URL:https://eftmatrixacademy.com/courses/matrix-reimprinting-practitioner-training/
LOCATION:Hyatt Place N Scottsdale\, 18513 N Scottsdale Rd\,\, Scottsdale\,\, Arizona\, 85255\, United States
ATTACH;FMTTYPE=image/jpeg:https://eftmatrixacademy.com/wp-content/uploads/2023/08/Screenshot-2023-08-02-140556-1.jpg
ORGANIZER;CN="Alina Frank":MAILTO:alina@efttappingtraining.com
GEO:33.4948764;-111.9216734
X-APPLE-STRUCTURED-LOCATION;VALUE=URI;X-ADDRESS=Hyatt Place N Scottsdale 18513 N Scottsdale Rd Scottsdale Arizona 85255 United States;X-APPLE-RADIUS=500;X-TITLE=18513 N Scottsdale Rd\,:geo:-111.9216734,33.4948764
END:VEVENT
BEGIN:VEVENT
DTSTART;VALUE=DATE:20230908
DTEND;VALUE=DATE:20230910
DTSTAMP:20260421T054110
CREATED:20230802T200422Z
LAST-MODIFIED:20230802T200422Z
UID:10000014-1694131200-1694303999@eftmatrixacademy.com
SUMMARY:Matrix Reimprinting Practitioner Training Washington
DESCRIPTION:Matrix Reimprinting Practitioner Training on beautiful Whidbey Island\, WA with two Matrix trainers. Enjoy the magical energy of south Whidbey Island\, have lunch at the Farmer’s Market across from venue\, hike the beaches in the morning! Visit site for more information or call us at 360.661.6877. Early bird registration available \n 
URL:https://eftmatrixacademy.com/courses/matrix-reimprinting-practitioner-training-washington/
LOCATION:Historic Sears House\, Bayview Corner Meinhold Rd.\, 2812 East Meinhold Rd\,\, Langley\, WA\, 98260\, United States
ATTACH;FMTTYPE=image/jpeg:https://eftmatrixacademy.com/wp-content/uploads/2023/08/s483645178891666409_p3_i1_w510.jpeg
ORGANIZER;CN="Alina Frank":MAILTO:alina@efttappingtraining.com
GEO:48.0055887;-122.4608216
X-APPLE-STRUCTURED-LOCATION;VALUE=URI;X-ADDRESS=Historic Sears House Bayview Corner Meinhold Rd. 2812 East Meinhold Rd Langley WA 98260 United States;X-APPLE-RADIUS=500;X-TITLE=2812 East Meinhold Rd\,:geo:-122.4608216,48.0055887
END:VEVENT
END:VCALENDAR