BEGIN:VCALENDAR
VERSION:2.0
PRODID:-//EFT Matrix Academy - ECPv6.15.18//NONSGML v1.0//EN
CALSCALE:GREGORIAN
METHOD:PUBLISH
X-WR-CALNAME:EFT Matrix Academy
X-ORIGINAL-URL:https://eftmatrixacademy.com
X-WR-CALDESC:Events for EFT Matrix Academy
REFRESH-INTERVAL;VALUE=DURATION:PT1H
X-Robots-Tag:noindex
X-PUBLISHED-TTL:PT1H
BEGIN:VTIMEZONE
TZID:Europe/London
BEGIN:DAYLIGHT
TZOFFSETFROM:+0000
TZOFFSETTO:+0100
TZNAME:BST
DTSTART:20250330T010000
END:DAYLIGHT
BEGIN:STANDARD
TZOFFSETFROM:+0100
TZOFFSETTO:+0000
TZNAME:GMT
DTSTART:20251026T010000
END:STANDARD
BEGIN:DAYLIGHT
TZOFFSETFROM:+0000
TZOFFSETTO:+0100
TZNAME:BST
DTSTART:20260329T010000
END:DAYLIGHT
BEGIN:STANDARD
TZOFFSETFROM:+0100
TZOFFSETTO:+0000
TZNAME:GMT
DTSTART:20261025T010000
END:STANDARD
BEGIN:DAYLIGHT
TZOFFSETFROM:+0000
TZOFFSETTO:+0100
TZNAME:BST
DTSTART:20270328T010000
END:DAYLIGHT
BEGIN:STANDARD
TZOFFSETFROM:+0100
TZOFFSETTO:+0000
TZNAME:GMT
DTSTART:20271031T010000
END:STANDARD
END:VTIMEZONE
BEGIN:VEVENT
DTSTART;TZID=Europe/London:20260422T093000
DTEND;TZID=Europe/London:20260424T173000
DTSTAMP:20260421T002048
CREATED:20260314T040750Z
LAST-MODIFIED:20260314T040750Z
UID:10000430-1776850200-1777051800@eftmatrixacademy.com
SUMMARY:EFT Level 1 and 2 Combined\, Victoria\, Australia
DESCRIPTION:Join Caroline Dawson for this comprehensive EFT Level 1 & 2 combined training\, designed for those who want to experience the powerful benefits of Emotional Freedom Techniques both personally and professionally. \nEFT (often referred to as “tapping”) is a gentle yet highly effective method that helps release emotional stress\, shift limiting beliefs\, and resolve the deeper patterns that can influence our thoughts\, behaviours\, and wellbeing. Many people find EFT to be a life-changing tool that can be used for personal growth\, supporting loved ones\, or as part of a professional practice. \nThis training provides a strong foundation in EFT\, guiding students step-by-step through the principles\, techniques\, and practical application of tapping. Participants will gain hands-on experience\, developing the confidence to use EFT safely and effectively in a variety of situations. \nWhether you are looking to enhance your own personal wellbeing\, add powerful new skills to your existing professional toolkit\, or begin the pathway toward becoming a certified EFT Practitioner\, this course offers a supportive and engaging learning environment. \nFull details including course content\, qualification pathway\, fees and upcoming training dates can be found on the courses page of Caroline’s website: www.efttraining.com.au
URL:https://eftmatrixacademy.com/courses/eft-level-1-and-2-combined-victoria-australia/
LOCATION:Frankston\, Victoria\, Victoria\, Australia
CATEGORIES:EFT and Matrix Training Courses
ATTACH;FMTTYPE=image/jpeg:https://eftmatrixacademy.com/wp-content/uploads/2026/03/Wings-of-Light.jpg
ORGANIZER;CN="Caroline Dawson":MAILTO:1111transform@gmail.com
GEO:-36.9847807;143.3906074
END:VEVENT
BEGIN:VEVENT
DTSTART;TZID=Europe/London:20260423T090000
DTEND;TZID=Europe/London:20260426T170000
DTSTAMP:20260421T002048
CREATED:20250924T130830Z
LAST-MODIFIED:20251209T075309Z
UID:10000337-1776934800-1777222800@eftmatrixacademy.com
SUMMARY:Advanced Practitioner – EFT Level 3 – 4 days training with Nicky Forbes
DESCRIPTION:Join me\, Nicky Forbes\, on this exciting expansion of wisdom for those of you who really want to deepen and widen your tapping experience. By launching from the foundations of EFT (Levels 1 and 2) the Advanced Practitioner training shows just how far Tapping can be applied to all areas of life – physical and energetic. \nThis course and follow up commitments of 3 case studies\, really challenge you to step into the best version of yourself as an EFT practitioner – with the knowing you have all the skills and experience to meet your clients\, wherever they are on their soul journey and wherever they wish to go. \nThis extensive 4 day training takes the formula of EFT into expansive\, metaphysical levels\, bringing intuition\, inner landscapes and metaphors into the arena. With Level 3 skills\, EFT really comes to life and allows you to have the confidence to take your practice to heightened levels of Mastery.
URL:https://eftmatrixacademy.com/courses/advanced-practitioner-eft-level-3-4-days-intensive-training/
LOCATION:Victory Hall Dalston\, Cumbria\, Dalston\, Cumbria\, CA5 7QB\, United Kingdom
CATEGORIES:EFT and Matrix Training Courses
ATTACH;FMTTYPE=image/jpeg:https://eftmatrixacademy.com/wp-content/uploads/2025/09/FB_IMG_1758718877280.jpg
ORGANIZER;CN="Nicky Forbes":MAILTO:nickyhforbes@gmail.com
GEO:54.840144;-2.9845142
END:VEVENT
BEGIN:VEVENT
DTSTART;TZID=Europe/London:20260423T180000
DTEND;TZID=Europe/London:20260423T200000
DTSTAMP:20260421T002048
CREATED:20260120T075114Z
LAST-MODIFIED:20260120T080759Z
UID:10000358-1776967200-1776974400@eftmatrixacademy.com
SUMMARY:Specialist Practitioners Grief Training level 1
DESCRIPTION:This is an online specialist workshop for you if you are a Practitioner who is qualified in EFT and Matrix Reimprinting. to ensure you are best equipped to help any clients who are experiencing grief from bereavement and any other type of loss. \nThe training will take the form of lectures\, practical sessions\, sharing the latest research in this field\, interactive discussions and exercises. \nOn this course you will have training and access to new tools\, learn how to help clients through different aspects of their loss\, and how best to help them to help themselves\, learn about health implications\, help clients see their gifts of grief\, help clients to recognise the potential of their pain and how to help you integrate this knowledge into your practise. \n  \nThis course will run for 2 hours each Thursday for 6 weeks starting 12th March 2026
URL:https://eftmatrixacademy.com/courses/specialist-practitioners-grief-training-level-1/2026-04-23/
LOCATION:online\, bridge villa\, welshampton\, sy120qe\, United Kingdom
CATEGORIES:Live Speciality Courses
ATTACH;FMTTYPE=image/jpeg:https://eftmatrixacademy.com/wp-content/uploads/2026/01/Specialist-Practitioners-Grief-Training-with-Janice-Thompson.jpg
ORGANIZER;CN="Janice Thompson":MAILTO:transformationtojoy@gmail.com
END:VEVENT
BEGIN:VEVENT
DTSTART;TZID=Europe/London:20260430T180000
DTEND;TZID=Europe/London:20260430T200000
DTSTAMP:20260421T002048
CREATED:20260120T075114Z
LAST-MODIFIED:20260120T080759Z
UID:10000359-1777572000-1777579200@eftmatrixacademy.com
SUMMARY:Specialist Practitioners Grief Training level 1
DESCRIPTION:This is an online specialist workshop for you if you are a Practitioner who is qualified in EFT and Matrix Reimprinting. to ensure you are best equipped to help any clients who are experiencing grief from bereavement and any other type of loss. \nThe training will take the form of lectures\, practical sessions\, sharing the latest research in this field\, interactive discussions and exercises. \nOn this course you will have training and access to new tools\, learn how to help clients through different aspects of their loss\, and how best to help them to help themselves\, learn about health implications\, help clients see their gifts of grief\, help clients to recognise the potential of their pain and how to help you integrate this knowledge into your practise. \n  \nThis course will run for 2 hours each Thursday for 6 weeks starting 12th March 2026
URL:https://eftmatrixacademy.com/courses/specialist-practitioners-grief-training-level-1/2026-04-30/
LOCATION:online\, bridge villa\, welshampton\, sy120qe\, United Kingdom
CATEGORIES:Live Speciality Courses
ATTACH;FMTTYPE=image/jpeg:https://eftmatrixacademy.com/wp-content/uploads/2026/01/Specialist-Practitioners-Grief-Training-with-Janice-Thompson.jpg
ORGANIZER;CN="Janice Thompson":MAILTO:transformationtojoy@gmail.com
END:VEVENT
END:VCALENDAR