BEGIN:VCALENDAR
VERSION:2.0
PRODID:-//EFT Matrix Academy - ECPv6.15.18//NONSGML v1.0//EN
CALSCALE:GREGORIAN
METHOD:PUBLISH
X-ORIGINAL-URL:https://eftmatrixacademy.com
X-WR-CALDESC:Events for EFT Matrix Academy
REFRESH-INTERVAL;VALUE=DURATION:PT1H
X-Robots-Tag:noindex
X-PUBLISHED-TTL:PT1H
BEGIN:VTIMEZONE
TZID:Europe/London
BEGIN:DAYLIGHT
TZOFFSETFROM:+0000
TZOFFSETTO:+0100
TZNAME:BST
DTSTART:20250330T010000
END:DAYLIGHT
BEGIN:STANDARD
TZOFFSETFROM:+0100
TZOFFSETTO:+0000
TZNAME:GMT
DTSTART:20251026T010000
END:STANDARD
BEGIN:DAYLIGHT
TZOFFSETFROM:+0000
TZOFFSETTO:+0100
TZNAME:BST
DTSTART:20260329T010000
END:DAYLIGHT
BEGIN:STANDARD
TZOFFSETFROM:+0100
TZOFFSETTO:+0000
TZNAME:GMT
DTSTART:20261025T010000
END:STANDARD
BEGIN:DAYLIGHT
TZOFFSETFROM:+0000
TZOFFSETTO:+0100
TZNAME:BST
DTSTART:20270328T010000
END:DAYLIGHT
BEGIN:STANDARD
TZOFFSETFROM:+0100
TZOFFSETTO:+0000
TZNAME:GMT
DTSTART:20271031T010000
END:STANDARD
END:VTIMEZONE
BEGIN:VTIMEZONE
TZID:America/Winnipeg
BEGIN:DAYLIGHT
TZOFFSETFROM:-0600
TZOFFSETTO:-0500
TZNAME:CDT
DTSTART:20250309T080000
END:DAYLIGHT
BEGIN:STANDARD
TZOFFSETFROM:-0500
TZOFFSETTO:-0600
TZNAME:CST
DTSTART:20251102T070000
END:STANDARD
BEGIN:DAYLIGHT
TZOFFSETFROM:-0600
TZOFFSETTO:-0500
TZNAME:CDT
DTSTART:20260308T080000
END:DAYLIGHT
BEGIN:STANDARD
TZOFFSETFROM:-0500
TZOFFSETTO:-0600
TZNAME:CST
DTSTART:20261101T070000
END:STANDARD
BEGIN:DAYLIGHT
TZOFFSETFROM:-0600
TZOFFSETTO:-0500
TZNAME:CDT
DTSTART:20270314T080000
END:DAYLIGHT
BEGIN:STANDARD
TZOFFSETFROM:-0500
TZOFFSETTO:-0600
TZNAME:CST
DTSTART:20271107T070000
END:STANDARD
END:VTIMEZONE
BEGIN:VEVENT
DTSTART;TZID=Europe/London:20260306T080000
DTEND;TZID=Europe/London:20260308T170000
DTSTAMP:20260421T205445
CREATED:20250924T125845Z
LAST-MODIFIED:20251209T075117Z
UID:10000335-1772784000-1772989200@eftmatrixacademy.com
SUMMARY:Levels 1 and 2 EFT Training (Combined) – 3 days - North England
DESCRIPTION:Join me\, Nicky Forbes\, for 3 days of transformational learning – gaining all the tools required to become an EFT practitioner\, support yourself and many more \nRunning EFT training of all levels in the North of England\, Nicky offers a warm\, personable and deeply inspiring approach to EFT. She combines her 28 years of delivering therapy and training across the NHS\, Hospice\, Emergency Services\, Corporate\, Military and the general public – bringing a wealth and depth of experience and wisdom to your learning. \nOnce you’ve completed the 3 days\, Nicky asks for 4 case studies to be submitted – this ensures you feel truly confident\, capable and competent to complete the online assessment\, prior to qualifying. Then\, fully equipped you can help many others change their lives with the wonder of tapping \nYou’ll be invited to join Nicky’s private EFT Facebook group as well as the wonderful EFTMRA community pages\, so you’ll always have connection and a sense of belonging as you continue forward on your EFT journey. \nNicky offers regular free Q&A zooms if you’re curious about EFT and the training options – so please check out her Facebook page or email nickyhforbes@gmail.com. In addition\, she’s happy to arrange a free zoom chat to discuss any questions you may have\, ahead of booking the training. \nWe’d love you to join us
URL:https://eftmatrixacademy.com/courses/levels-1-and-2-eft-training-combined-3-days-in-person-2/
LOCATION:Victory Hall Dalston\, Cumbria\, Dalston\, Cumbria\, CA5 7QB\, United Kingdom
CATEGORIES:EFT and Matrix Training Courses
ATTACH;FMTTYPE=image/jpeg:https://eftmatrixacademy.com/wp-content/uploads/2025/09/MainLogo_web-04-1.jpg
ORGANIZER;CN="Nicky Forbes":MAILTO:nickyhforbes@gmail.com
GEO:54.840144;-2.9845142
END:VEVENT
BEGIN:VEVENT
DTSTART;TZID=Europe/London:20260307T140000
DTEND;TZID=Europe/London:20260308T200000
DTSTAMP:20260421T205445
CREATED:20260128T140515Z
LAST-MODIFIED:20260128T140515Z
UID:10000417-1772892000-1773000000@eftmatrixacademy.com
SUMMARY:Meta Consciousness Intro - Live Zoom (EFT Based)
DESCRIPTION:Ever wondered why your body keeps shouting when you’ve tried everything to make it quiet? \nJoin Penny Croal for a transformative EFT-based Meta Consciousness Intro workshop held live on Zoom over two days. This interactive weekend guides you through self-discovery and emotional insight using tools that open awareness and support healing. You’ll learn how emotions influence your body and mind\, explore pathways to clarity\, and deepen your connection with your innate wisdom. \n🌟 Includes guided exercises\, small-group reflections\, and tools you can continue to use after the workshop ends. \nThe Meta Intro 2 Day Workshop is where symptoms stop being the enemy and start making sense. \nThis is not mindset work\, this is deep biological understanding of how the brain\, body and soul connect and express emotional conflict.  This is not a tool to manage stress it is an analytical tool to bring complete comprehension for you and your clients \nIt is a biological\, trauma informed lens that shows why the body adapts\, what it is responding to\, and how healing actually unfolds when the nervous system is understood rather than overridden. \nOver two grounded\, practical days you will learn: \n• Why symptoms are intelligent adaptations\, not mistakes\n• How shock\, stress\, and unresolved events imprint on the body\n• The role of the brain\, tissue\, and nervous system in symptoms\n• Why some people heal quickly and others get stuck\n• How to stop fighting the body and start working with it \nThis workshop is for you if you are: \n• Personally navigating symptoms or chronic patterns\n• A practitioner wanting a deeper\, more coherent map\n• Tired of surface level explanations that don’t land in the body\n• Ready to understand the why\, not just the what \nYou will leave with clarity\, language\, and a framework that changes how you see health forever. \n  \n📍 Live on Zoom — interactive\, experiential\, and supportive. \n❗️Limited spaces for personalised attention. \nBook now: https://www.internationalmetaconsciousnessacademy.com/meta-intro-live-on-zoom-march-2026/
URL:https://eftmatrixacademy.com/courses/meta-consciousness-intro-live-zoom-eft-based/
CATEGORIES:Live Speciality Courses
ATTACH;FMTTYPE=image/png:https://eftmatrixacademy.com/wp-content/uploads/2026/01/MC-Intro-FB-Event.png
ORGANIZER;CN="Penny Croal":MAILTO:penny@changeahead.biz
END:VEVENT
BEGIN:VEVENT
DTSTART;TZID=Europe/London:20260312T180000
DTEND;TZID=Europe/London:20260312T200000
DTSTAMP:20260421T205445
CREATED:20260120T075114Z
LAST-MODIFIED:20260120T080759Z
UID:10000353-1773338400-1773345600@eftmatrixacademy.com
SUMMARY:Specialist Practitioners Grief Training level 1
DESCRIPTION:This is an online specialist workshop for you if you are a Practitioner who is qualified in EFT and Matrix Reimprinting. to ensure you are best equipped to help any clients who are experiencing grief from bereavement and any other type of loss. \nThe training will take the form of lectures\, practical sessions\, sharing the latest research in this field\, interactive discussions and exercises. \nOn this course you will have training and access to new tools\, learn how to help clients through different aspects of their loss\, and how best to help them to help themselves\, learn about health implications\, help clients see their gifts of grief\, help clients to recognise the potential of their pain and how to help you integrate this knowledge into your practise. \n  \nThis course will run for 2 hours each Thursday for 6 weeks starting 12th March 2026
URL:https://eftmatrixacademy.com/courses/specialist-practitioners-grief-training-level-1/2026-03-12/
LOCATION:online\, bridge villa\, welshampton\, sy120qe\, United Kingdom
CATEGORIES:Live Speciality Courses
ATTACH;FMTTYPE=image/jpeg:https://eftmatrixacademy.com/wp-content/uploads/2026/01/Specialist-Practitioners-Grief-Training-with-Janice-Thompson.jpg
ORGANIZER;CN="Janice Thompson":MAILTO:transformationtojoy@gmail.com
END:VEVENT
BEGIN:VEVENT
DTSTART;TZID=Europe/London:20260313T093000
DTEND;TZID=Europe/London:20260315T173000
DTSTAMP:20260421T205445
CREATED:20260206T142639Z
LAST-MODIFIED:20260206T142639Z
UID:10000423-1773394200-1773595800@eftmatrixacademy.com
SUMMARY:EFT 1 & 2 Combined - London - 3 days
DESCRIPTION:Two Expert Practitioners. One Transformative EFT Experience. \n\n\nThis is an EFT certification that lasts long after the training room closes. \n\n\nJoin Kate Marillat & Fiona Vigar for 3 days of transformative EFT Practitioner Training — a deeply immersive experience where you’ll learn EFT Levels 1 & 2 and become a confident\, effective practitioner for yourself and others. \n\n\nOur training blends science\, soul and advanced techniques in a small\, supportive group environment\, helping you explore your own beliefs and patterns while building real skill. Each day includes somatic integration\, allowing the learning to settle deeply\, so you leave feeling grounded\, nourished and resourced — rather than overwhelmed by information. \n\n\nAfter 10 years of mentoring practitioners\, it’s the ones who make time to ‘swap’ and practise who go on to succeed. So\, once the training is complete\, we provide you with a three-month swap schedule. You also have access to a training portal\, our support and a community of practitioners — ensuring you feel connected\, ready to take your practitioner test and use EFT with confidence. \n\n\nKate Marillat co-authored Transform your Beliefs\, Transform your Life with Karl Dawson\, is founder of The Tapping Collective\, and has over a decade of experience teaching EFT Tapping and Matrix Reimprinting.  She creates transformational spaces where deep healing and real community meet. Fiona Vigar combines a deep understanding of the science behind EFT and a clarity in teaching the skills from her experience in the business world\, public speaking and guiding teams to success. Alongside training she coaches one to one and in workshop & retreat settings. \n\n\nIf you have questions or want to explore whether this training is right for you\, please email thetappingcollective@gmail.com — we’re happy to chat before you book. \n\n\nIn a world that invites you to rush\, we invite you to return\, to deepen and to become the best practitioner you can be.
URL:https://eftmatrixacademy.com/courses/eft-1-2-combined-london-3-days/
LOCATION:189 Sheen Lane\, London\, SW14 8LE\, United Kingdom\, The Den - 189 Sheen Lane\, London\, East Sussex\, SW14 8LE\, United Kingdom
CATEGORIES:EFT and Matrix Training Courses
ATTACH;FMTTYPE=image/png:https://eftmatrixacademy.com/wp-content/uploads/2026/02/EFTMRA-page-1-scaled.png
GEO:51.4621799;-0.2677156
X-APPLE-STRUCTURED-LOCATION;VALUE=URI;X-ADDRESS=189 Sheen Lane London SW14 8LE United Kingdom The Den - 189 Sheen Lane London East Sussex SW14 8LE United Kingdom;X-APPLE-RADIUS=500;X-TITLE=The Den - 189 Sheen Lane:geo:-0.2677156,51.4621799
END:VEVENT
BEGIN:VEVENT
DTSTART;TZID=Europe/London:20260319T180000
DTEND;TZID=Europe/London:20260319T200000
DTSTAMP:20260421T205445
CREATED:20260120T075114Z
LAST-MODIFIED:20260120T080759Z
UID:10000354-1773943200-1773950400@eftmatrixacademy.com
SUMMARY:Specialist Practitioners Grief Training level 1
DESCRIPTION:This is an online specialist workshop for you if you are a Practitioner who is qualified in EFT and Matrix Reimprinting. to ensure you are best equipped to help any clients who are experiencing grief from bereavement and any other type of loss. \nThe training will take the form of lectures\, practical sessions\, sharing the latest research in this field\, interactive discussions and exercises. \nOn this course you will have training and access to new tools\, learn how to help clients through different aspects of their loss\, and how best to help them to help themselves\, learn about health implications\, help clients see their gifts of grief\, help clients to recognise the potential of their pain and how to help you integrate this knowledge into your practise. \n  \nThis course will run for 2 hours each Thursday for 6 weeks starting 12th March 2026
URL:https://eftmatrixacademy.com/courses/specialist-practitioners-grief-training-level-1/2026-03-19/
LOCATION:online\, bridge villa\, welshampton\, sy120qe\, United Kingdom
CATEGORIES:Live Speciality Courses
ATTACH;FMTTYPE=image/jpeg:https://eftmatrixacademy.com/wp-content/uploads/2026/01/Specialist-Practitioners-Grief-Training-with-Janice-Thompson.jpg
ORGANIZER;CN="Janice Thompson":MAILTO:transformationtojoy@gmail.com
END:VEVENT
BEGIN:VEVENT
DTSTART;VALUE=DATE:20260320
DTEND;VALUE=DATE:20260323
DTSTAMP:20260421T205445
CREATED:20260220T221303Z
LAST-MODIFIED:20260220T221303Z
UID:10000425-1773964800-1774223999@eftmatrixacademy.com
SUMMARY:EFT Level 1 & 2 in Winnipeg\, MB\, Canada
DESCRIPTION:Dr. Kathryn Ritchot is offering a 3 day Level 1 and 2 training in Winnipeg\, MB\, Canada at the Granite Curling Club.  Dr. Kathryn Ritchot is approved by the Canadian Psychological Association to offer continuing education for psychologists.  Dr. Kathryn Ritchot maintains responsibility for the program.
URL:https://eftmatrixacademy.com/courses/eft-level-1-2-in-winnipeg-mb-canada-2/
CATEGORIES:EFT and Matrix Training Courses
ORGANIZER;CN="Dr. Kathryn Ritchot":MAILTO:dr.kathryn.ritchot@gmail.com
END:VEVENT
BEGIN:VEVENT
DTSTART;TZID=Europe/London:20260325T093000
DTEND;TZID=Europe/London:20260327T173000
DTSTAMP:20260421T205445
CREATED:20251117T072100Z
LAST-MODIFIED:20251209T075139Z
UID:10000340-1774431000-1774632600@eftmatrixacademy.com
SUMMARY:EFT Course Level 1 and Level 2 Combined Practitioner Training in Brighton
DESCRIPTION:Our Brighton courses are held at the Leonardo Royal Brighton Waterfront Hotel.
URL:https://eftmatrixacademy.com/courses/eft-course-level-1-and-level-2-combined-practitioner-training-in-brighton-7/
LOCATION:Leonardo Royal Brighton Waterfront Hotel\, Kings Road 6\, Brighton and Hove\, Brighton and Hove\, BN1 1NE\, United Kingdom
CATEGORIES:EFT and Matrix Training Courses
ATTACH;FMTTYPE=image/jpeg:https://eftmatrixacademy.com/wp-content/uploads/2025/10/eftmatrix004a-1.jpg
ORGANIZER;CN="Karl Dawson":MAILTO:karl28dawson@yahoo.com
GEO:50.8200729;-0.1409352
X-APPLE-STRUCTURED-LOCATION;VALUE=URI;X-ADDRESS=Leonardo Royal Brighton Waterfront Hotel Kings Road 6 Brighton and Hove Brighton and Hove BN1 1NE United Kingdom;X-APPLE-RADIUS=500;X-TITLE=Kings Road 6:geo:-0.1409352,50.8200729
END:VEVENT
BEGIN:VEVENT
DTSTART;TZID=Europe/London:20260326T180000
DTEND;TZID=Europe/London:20260326T200000
DTSTAMP:20260421T205445
CREATED:20260120T075114Z
LAST-MODIFIED:20260120T080759Z
UID:10000355-1774548000-1774555200@eftmatrixacademy.com
SUMMARY:Specialist Practitioners Grief Training level 1
DESCRIPTION:This is an online specialist workshop for you if you are a Practitioner who is qualified in EFT and Matrix Reimprinting. to ensure you are best equipped to help any clients who are experiencing grief from bereavement and any other type of loss. \nThe training will take the form of lectures\, practical sessions\, sharing the latest research in this field\, interactive discussions and exercises. \nOn this course you will have training and access to new tools\, learn how to help clients through different aspects of their loss\, and how best to help them to help themselves\, learn about health implications\, help clients see their gifts of grief\, help clients to recognise the potential of their pain and how to help you integrate this knowledge into your practise. \n  \nThis course will run for 2 hours each Thursday for 6 weeks starting 12th March 2026
URL:https://eftmatrixacademy.com/courses/specialist-practitioners-grief-training-level-1/2026-03-26/
LOCATION:online\, bridge villa\, welshampton\, sy120qe\, United Kingdom
CATEGORIES:Live Speciality Courses
ATTACH;FMTTYPE=image/jpeg:https://eftmatrixacademy.com/wp-content/uploads/2026/01/Specialist-Practitioners-Grief-Training-with-Janice-Thompson.jpg
ORGANIZER;CN="Janice Thompson":MAILTO:transformationtojoy@gmail.com
END:VEVENT
BEGIN:VEVENT
DTSTART;TZID=Europe/London:20260328T093000
DTEND;TZID=Europe/London:20260329T173000
DTSTAMP:20260421T205445
CREATED:20251117T072211Z
LAST-MODIFIED:20251209T075201Z
UID:10000341-1774690200-1774805400@eftmatrixacademy.com
SUMMARY:Two-Day Matrix Reimprinting Practitioner Training in Brighton
DESCRIPTION:At the Leonardo Royal Brighton Waterfront Hotel. Save £145 when you purchase both courses together. The EFT and Matrix Reimprinting Practitioner training can be combined into one 5-day programme for just £675.
URL:https://eftmatrixacademy.com/courses/two-day-matrix-reimprinting-practitioner-training-in-brighton-8/
LOCATION:Leonardo Royal Brighton Waterfront Hotel\, Kings Road 6\, Brighton and Hove\, Brighton and Hove\, BN1 1NE\, United Kingdom
CATEGORIES:EFT and Matrix Training Courses
ATTACH;FMTTYPE=image/jpeg:https://eftmatrixacademy.com/wp-content/uploads/2025/10/Matrix-Training-1a-1.jpg
ORGANIZER;CN="Karl Dawson":MAILTO:karl28dawson@yahoo.com
GEO:50.8200729;-0.1409352
X-APPLE-STRUCTURED-LOCATION;VALUE=URI;X-ADDRESS=Leonardo Royal Brighton Waterfront Hotel Kings Road 6 Brighton and Hove Brighton and Hove BN1 1NE United Kingdom;X-APPLE-RADIUS=500;X-TITLE=Kings Road 6:geo:-0.1409352,50.8200729
END:VEVENT
BEGIN:VEVENT
DTSTART;TZID=Europe/London:20260402T180000
DTEND;TZID=Europe/London:20260402T200000
DTSTAMP:20260421T205445
CREATED:20260120T075114Z
LAST-MODIFIED:20260120T080759Z
UID:10000356-1775152800-1775160000@eftmatrixacademy.com
SUMMARY:Specialist Practitioners Grief Training level 1
DESCRIPTION:This is an online specialist workshop for you if you are a Practitioner who is qualified in EFT and Matrix Reimprinting. to ensure you are best equipped to help any clients who are experiencing grief from bereavement and any other type of loss. \nThe training will take the form of lectures\, practical sessions\, sharing the latest research in this field\, interactive discussions and exercises. \nOn this course you will have training and access to new tools\, learn how to help clients through different aspects of their loss\, and how best to help them to help themselves\, learn about health implications\, help clients see their gifts of grief\, help clients to recognise the potential of their pain and how to help you integrate this knowledge into your practise. \n  \nThis course will run for 2 hours each Thursday for 6 weeks starting 12th March 2026
URL:https://eftmatrixacademy.com/courses/specialist-practitioners-grief-training-level-1/2026-04-02/
LOCATION:online\, bridge villa\, welshampton\, sy120qe\, United Kingdom
CATEGORIES:Live Speciality Courses
ATTACH;FMTTYPE=image/jpeg:https://eftmatrixacademy.com/wp-content/uploads/2026/01/Specialist-Practitioners-Grief-Training-with-Janice-Thompson.jpg
ORGANIZER;CN="Janice Thompson":MAILTO:transformationtojoy@gmail.com
END:VEVENT
BEGIN:VEVENT
DTSTART;TZID=Europe/London:20260403T093000
DTEND;TZID=Europe/London:20260405T173000
DTSTAMP:20260421T205445
CREATED:20260305T132328Z
LAST-MODIFIED:20260305T132328Z
UID:10000427-1775208600-1775410200@eftmatrixacademy.com
SUMMARY:EFT Level 1&2 Certification Course
DESCRIPTION:EFT (Emotional Freedom Techniques) is the most recognised and widely used modality in the field of Energy Psychology — a new generation of evidence-based therapies combining ancient Eastern mind-body wisdom with modern psychology. \nMore than 100 clinical trials have demonstrated EFT’s ability to bring measurable\, lasting improvements in both emotional and physical well-being\, regulating key biomarkers such as stress hormones and even gene expression. \nEFT involves gently tapping on 14 acupuncture points while focusing on an issue or emotion. This simple yet powerful process helps the nervous system release stress and restores balance. It can be applied to emotional challenges\, trauma\, phobias\, anxiety\, physical pain\, and even performance enhancement. Many report feeling calmer\, lighter\, and more in control — often within minutes. \n➡️“EFT offers great healing benefits.” — Deepak Chopra\, MD\n➡️ “The most powerful new technology for transformation in years.” — Jack Canfield\n➡️ “A simple\, powerful process that can profoundly influence gene activity\, health and behaviour.” — Bruce Lipton\, PhD \n💡 What You’ll Learn \nLevel 1: Foundations of EFT \n\nThe history and science of EFT — why it works\nThe “Basic Recipe”: full EFT protocol with demos and hands-on practice\nHow to identify and correct energy disruptions and psychological reversals\nThe art of being specific and persistent for lasting results\nWorking safely with emotions\, memories\, and physical pain\nEFT shortcuts and testing effectiveness\nCore techniques: Movie Technique\, Chasing the Pain\, Constricted Breathing with demos and practice\nRecognising cognitive shifts and emotional release\nWhen EFT doesn’t seem to work — and how to troubleshoot\nPlenty of supervised in-pairs and group practice\, Q&A\, and feedback\n\nLevel 2: Mastery & Professional Application \n\nPrinciples from The Palace of Possibilities: shifting limiting beliefs and emotional filters\nHow to use affirmations effectively with EFT\nThe “Gentle Techniques”: Tearless Trauma\, Sneaking Up on the Problem\nAddressing addictions and physical issues with core emotional methods\nWorking with the “inner critic” and advanced setup statements\nFinding core issues and root causes behind surface symptoms\nThe “Personal Peace Procedure” for daily self-work\nTesting results and managing complex aspects\nUsing EFT online and in groups: Borrowing Benefits and facilitation skills\nPlenty of supervised in-pairs and group practice\, Q&A\, and feedback\n\n🎓 Your Trainer: Irena Barton \nIrena Barton is an international EFT and Matrix Reimprinting trainer\, academically certified by Gary Craig\, the founder of EFT. Member of EFTi (previously AAMET)\, and the Guild of Energist\, UK Registered EFT professional organisations. Irena is the author of the book Set Your Subconscious Mind to Abundance with EFT. With over 15 years of professional experience\, she is known for her warm\, engaging\, and deeply inspiring teaching style. Irena combines clarity\, compassion\, and humour to create a safe and uplifting learning environment where transformation feels natural. Her students describe her courses as both practical and life-changing. \n💬 What Students Say \n“Irena has been inspirational! She helped me find my inner truth and explore my emotions.” – J. Raynolds\n“Her passion and compassion are contagious.” – Nelly F.\n“The training revealed a whole new world of possibilities — and even healed my 20-year chronic back pain!” – Dr. Ani Dimitrova\, MD\n“She is mesmerizing — warm\, knowledgeable\, and deeply engaging.” – Christina Willoughby \n📘 Included \n\nFull printed binder of course materials\nDigital PDF & PowerPoint slides\nAudio recording of the training\nPrivate post-course Facebook EFTMRA Group for Q&A\nPre- and post-course learning resources\nCertificate of Completion (EFTMRA-accredited)\n\n✨ Take the Next Step \nWhether you’re a therapist\, coach\, or simply curious about personal growth\, this course will equip you with one of the most effective and empowering tools for emotional healing available today. \nJoin us in Edinburgh and experience the transformation for yourself. \n  \nCourse Fee: Level 1&2 – £495 \nReserve your place: £100 \nRefresher: if you’ve already taken the workshop with another trainer and want a refresher\, all three days £120. For more information\, write to: Irena at www.eft4success.eu
URL:https://eftmatrixacademy.com/courses/eft-level-12-certification-course/
LOCATION:The Open Door\, 420 Morningside Rd\, Edinburgh\, Midlothian\, EH10 5HY
CATEGORIES:EFT and Matrix Training Courses
ATTACH;FMTTYPE=image/jpeg:https://eftmatrixacademy.com/wp-content/uploads/2026/03/EFT-Cert-sq.jpg
ORGANIZER;CN="Irena Relyovska-Barton":MAILTO:irena.barton@barep.org
GEO:55.925478;-3.2096399
X-APPLE-STRUCTURED-LOCATION;VALUE=URI;X-ADDRESS=The Open Door 420 Morningside Rd Edinburgh Midlothian EH10 5HY;X-APPLE-RADIUS=500;X-TITLE=420 Morningside Rd:geo:-3.2096399,55.925478
END:VEVENT
BEGIN:VEVENT
DTSTART;TZID=Europe/London:20260409T180000
DTEND;TZID=Europe/London:20260409T200000
DTSTAMP:20260421T205445
CREATED:20260120T075114Z
LAST-MODIFIED:20260120T080759Z
UID:10000357-1775757600-1775764800@eftmatrixacademy.com
SUMMARY:Specialist Practitioners Grief Training level 1
DESCRIPTION:This is an online specialist workshop for you if you are a Practitioner who is qualified in EFT and Matrix Reimprinting. to ensure you are best equipped to help any clients who are experiencing grief from bereavement and any other type of loss. \nThe training will take the form of lectures\, practical sessions\, sharing the latest research in this field\, interactive discussions and exercises. \nOn this course you will have training and access to new tools\, learn how to help clients through different aspects of their loss\, and how best to help them to help themselves\, learn about health implications\, help clients see their gifts of grief\, help clients to recognise the potential of their pain and how to help you integrate this knowledge into your practise. \n  \nThis course will run for 2 hours each Thursday for 6 weeks starting 12th March 2026
URL:https://eftmatrixacademy.com/courses/specialist-practitioners-grief-training-level-1/2026-04-09/
LOCATION:online\, bridge villa\, welshampton\, sy120qe\, United Kingdom
CATEGORIES:Live Speciality Courses
ATTACH;FMTTYPE=image/jpeg:https://eftmatrixacademy.com/wp-content/uploads/2026/01/Specialist-Practitioners-Grief-Training-with-Janice-Thompson.jpg
ORGANIZER;CN="Janice Thompson":MAILTO:transformationtojoy@gmail.com
END:VEVENT
BEGIN:VEVENT
DTSTART;TZID=Europe/London:20260415T093000
DTEND;TZID=Europe/London:20260417T173000
DTSTAMP:20260421T205445
CREATED:20251020T035057Z
LAST-MODIFIED:20251209T075226Z
UID:10000338-1776245400-1776447000@eftmatrixacademy.com
SUMMARY:EFT Course Level 1 and Level 2 Combined Practitioner Training in Torquay
DESCRIPTION:Our Torquay courses are held at The Imperial hotel is in the centre of Torquay on the seafront. There are a large amount of hotels\, BnB’s and Air BnB’s available within walking distance of the Imperial hotel. There is also a large free car park at the hotel.
URL:https://eftmatrixacademy.com/courses/eft-course-level-1-and-level-2-combined-practitioner-training-in-torquay-5/
LOCATION:The Imperial Torquay\, The Imperial Park Hill Road\, Torquay\, Devon\, TQ1 2DG\, United Kingdom
CATEGORIES:EFT and Matrix Training Courses
ATTACH;FMTTYPE=image/jpeg:https://eftmatrixacademy.com/wp-content/uploads/2025/10/eftmatrix004a-1.jpg
ORGANIZER;CN="Karl Dawson":MAILTO:karl28dawson@yahoo.com
GEO:50.4569041;-3.5209868
X-APPLE-STRUCTURED-LOCATION;VALUE=URI;X-ADDRESS=The Imperial Torquay The Imperial Park Hill Road Torquay Devon TQ1 2DG United Kingdom;X-APPLE-RADIUS=500;X-TITLE=The Imperial Park Hill Road:geo:-3.5209868,50.4569041
END:VEVENT
BEGIN:VEVENT
DTSTART;TZID=Europe/London:20260418T093000
DTEND;TZID=Europe/London:20260419T173000
DTSTAMP:20260421T205445
CREATED:20251020T035214Z
LAST-MODIFIED:20251209T075246Z
UID:10000339-1776504600-1776619800@eftmatrixacademy.com
SUMMARY:Two-Day Matrix Reimprinting Practitioner Training in Torquay
DESCRIPTION:Our Torquay courses are held at The Imperial hotel is in the centre of Torquay on the seafront. There are a large amount of hotels\, BnB’s and Air BnB’s available within walking distance of the Imperial hotel. There is also a large free car park at the hotel.
URL:https://eftmatrixacademy.com/courses/two-day-matrix-reimprinting-practitioner-training-in-torquay-2/
LOCATION:The Imperial Torquay\, The Imperial Park Hill Road\, Torquay\, Devon\, TQ1 2DG\, United Kingdom
CATEGORIES:EFT and Matrix Training Courses
ATTACH;FMTTYPE=image/jpeg:https://eftmatrixacademy.com/wp-content/uploads/2025/10/Matrix-Training-1a-1.jpg
ORGANIZER;CN="Karl Dawson":MAILTO:karl28dawson@yahoo.com
GEO:50.4569041;-3.5209868
X-APPLE-STRUCTURED-LOCATION;VALUE=URI;X-ADDRESS=The Imperial Torquay The Imperial Park Hill Road Torquay Devon TQ1 2DG United Kingdom;X-APPLE-RADIUS=500;X-TITLE=The Imperial Park Hill Road:geo:-3.5209868,50.4569041
END:VEVENT
END:VCALENDAR